BEGIN:VCALENDAR
VERSION:2.0
PRODID:-//GRÜNE Stadt Zürich - ECPv6.15.15//NONSGML v1.0//EN
CALSCALE:GREGORIAN
METHOD:PUBLISH
X-WR-CALNAME:GRÜNE Stadt Zürich
X-ORIGINAL-URL:https://gruenezuerich.ch
X-WR-CALDESC:Veranstaltungen für GRÜNE Stadt Zürich
REFRESH-INTERVAL;VALUE=DURATION:PT1H
X-Robots-Tag:noindex
X-PUBLISHED-TTL:PT1H
BEGIN:VTIMEZONE
TZID:Europe/Zurich
BEGIN:DAYLIGHT
TZOFFSETFROM:+0100
TZOFFSETTO:+0200
TZNAME:CEST
DTSTART:20250330T010000
END:DAYLIGHT
BEGIN:STANDARD
TZOFFSETFROM:+0200
TZOFFSETTO:+0100
TZNAME:CET
DTSTART:20251026T010000
END:STANDARD
BEGIN:DAYLIGHT
TZOFFSETFROM:+0100
TZOFFSETTO:+0200
TZNAME:CEST
DTSTART:20260329T010000
END:DAYLIGHT
BEGIN:STANDARD
TZOFFSETFROM:+0200
TZOFFSETTO:+0100
TZNAME:CET
DTSTART:20261025T010000
END:STANDARD
BEGIN:DAYLIGHT
TZOFFSETFROM:+0100
TZOFFSETTO:+0200
TZNAME:CEST
DTSTART:20270328T010000
END:DAYLIGHT
BEGIN:STANDARD
TZOFFSETFROM:+0200
TZOFFSETTO:+0100
TZNAME:CET
DTSTART:20271031T010000
END:STANDARD
END:VTIMEZONE
BEGIN:VEVENT
DTSTART;TZID=Europe/Zurich:20260626T171500
DTEND;TZID=Europe/Zurich:20260626T210000
DTSTAMP:20260423T162950
CREATED:20260422T142150Z
LAST-MODIFIED:20260422T142220Z
UID:12957-1782494100-1782507600@gruenezuerich.ch
SUMMARY:AG Mobilität: Monatlicher Treff mit anschliessender Mitfahrt an der Critical Mass Kopieren
DESCRIPTION:
URL:https://gruenezuerich.ch/event/ag-mobilitaet-monatlicher-treff-mit-anschliessender-mitfahrt-an-der-critical-mass-copy-2
END:VEVENT
END:VCALENDAR